BEGIN:VCALENDAR
VERSION:2.0
CALSCALE:GREGORIAN
PRODID:-//Diputació de Barcelona//DibaCMS//EN
BEGIN:VEVENT
UID:10309
DTSTAMP:20260424T074429
DTSTART:20210331T080000
DTEND:20220330T000000
SUMMARY:Es presenta al Casino el llibre il·lustrat pel sesrovirenc Aitor Larrea
LOCATION:
METHOD:PUBLISH
X-WR-CALNAME:sesrovires@diba.cat
X-WR-TIMEZONE:Europe/Madrid
DESCRIPTION:El 7 d’abril  el teatre municipal El Casino acull la presentació dels contes Dinàmiques CONTAdes, obra que ha estat il·lustrada pel professor sesrovirenc Aitor Larrea.  L’acte està pensat com una activitat familiar i educativa ja que els contes estan concebuts com una eina per millorar la comunicació amb els infants. Donat que l’aforament és limitat, cal inscripció prèvia al correu electrònic info@pol-len.cat

URI:https://www.sesrovires.cat/actualitat/noticies/es-presenta-al-casino-el-llibre-illustrat-pel-sesrovirenc-aitor-larrea.html
CLASS:PUBLIC
END:VEVENT
END:VCALENDAR
