BEGIN:VCALENDAR
VERSION:2.0
CALSCALE:GREGORIAN
PRODID:-//Diputació de Barcelona//DibaCMS//EN
BEGIN:VEVENT
UID:10446
DTSTAMP:20260424T004650
DTSTART:20210508T110000
DTEND:20220508T000000
SUMMARY:Acaba l’estat d’alarma i el toc de queda
LOCATION:
METHOD:PUBLISH
X-WR-CALNAME:sesrovires@diba.cat
X-WR-TIMEZONE:Europe/Madrid
DESCRIPTION:La mitjanit de dissabte a diumenge finalitza l’estat d’alarma i el toc de queda, però es mantenen les mesures de protecció a l’espai públic i els grups bombolla a les escoles i en les activitats extraescolars. Les trobades socials es mantenen, com a màxim, en 6 persones, excepte convivents.

URI:https://www.sesrovires.cat/actualitat/noticies/acaba-lestat-dalarma-i-el-toc-de-queda.html
CLASS:PUBLIC
END:VEVENT
END:VCALENDAR
