BEGIN:VCALENDAR
VERSION:2.0
CALSCALE:GREGORIAN
PRODID:-//Diputació de Barcelona//DibaCMS//EN
BEGIN:VEVENT
UID:10838
DTSTAMP:20260423T091044
DTSTART:20210915T000000
DTEND:20220915T000000
SUMMARY:L’Ajuntament torna a demanar a la Generalitat millorar la connexió per bus amb Barcelona
LOCATION:
METHOD:PUBLISH
X-WR-CALNAME:sesrovires@diba.cat
X-WR-TIMEZONE:Europe/Madrid
DESCRIPTION:A petició de l’Ajuntament, responsables municipals i de la Generalitat van celebrar dilluns una reunió telemàtica per estudiar la millora de la connexió del municipi amb Barcelona aprofitant la línia intercomarcal de bus. L’Ajuntament ja ha reclamat en vàries ocasions una parada d’aquest servei dins de Sant Esteve.

URI:https://www.sesrovires.cat/actualitat/noticies/lajuntament-torna-a-demanar-a-la-generalitat-millorar-la-connexio-per-bus-amb-barcelona.html
CLASS:PUBLIC
END:VEVENT
END:VCALENDAR
