BEGIN:VCALENDAR
VERSION:2.0
CALSCALE:GREGORIAN
PRODID:-//Diputació de Barcelona//DibaCMS//EN
BEGIN:VEVENT
UID:11094
DTSTAMP:20260422T220323
DTSTART:20211108T170000
DTEND:20221108T000000
SUMMARY:Últims dies per inscriure’s en el cros de l’escola l’Àgora
LOCATION:
METHOD:PUBLISH
X-WR-CALNAME:sesrovires@diba.cat
X-WR-TIMEZONE:Europe/Madrid
DESCRIPTION:El Consell Esportiu del Baix Llobregat i el Club Esportiu Àgora organitzen el dissabte 13 de novembre el 2n Cros Comarcal Escolar del curs 2021-2022.  Les inscripcions es poden fer online i fins al 9 de novembre en aquest enllaç. La prova també inclou una cursa popular per a adults

URI:https://www.sesrovires.cat/actualitat/noticies/ultims-dies-per-inscriures-en-el-cros-de-lescola-lagora.html
CLASS:PUBLIC
END:VEVENT
END:VCALENDAR
