BEGIN:VCALENDAR
VERSION:2.0
CALSCALE:GREGORIAN
PRODID:-//Diputació de Barcelona//DibaCMS//EN
BEGIN:VEVENT
UID:12064
DTSTAMP:20260422T123929
DTSTART:20220520T080000
DTEND:20230519T000000
SUMMARY:Dimarts 24 començarà la renovació del parc dels Jardinets
LOCATION:
METHOD:PUBLISH
X-WR-CALNAME:sesrovires@diba.cat
X-WR-TIMEZONE:Europe/Madrid
DESCRIPTION:El proper dimarts 24 de maig començaran les obres de renovació del parc dels Jardinets. Per aquest motiu, l’espai romandrà tancat durant les tres setmanes que es preveu que durin els treballs. L’actuació suposa una inversió de 55.000 euros.

URI:https://www.sesrovires.cat/actualitat/noticies/dimarts-24-comencara-la-renovacio-del-parc-dels-jardinets.html
CLASS:PUBLIC
END:VEVENT
END:VCALENDAR
