BEGIN:VCALENDAR
VERSION:2.0
CALSCALE:GREGORIAN
PRODID:-//Diputació de Barcelona//DibaCMS//EN
BEGIN:VEVENT
UID:13624
DTSTAMP:20260425T053805
DTSTART:20230924T100000
DTEND:20230924T100000
SUMMARY:28a TROBADA DE PUNTAIRES
LOCATION:Passeig de Les Oliveres, s/n 08635 Sant Esteve Sesrovires
METHOD:PUBLISH
X-WR-CALNAME:sesrovires@diba.cat
X-WR-TIMEZONE:Europe/Madrid
DESCRIPTION:28a Trobada de Puntaires

Incripcions de l'1 de juny al 12 de setembre de 2023

Carme - 658380876

Marta - 661552568

Places Limitades

URI:https://www.sesrovires.cat/actualitat/agenda-cultural/28a-trobada-de-puntaires.html
CLASS:PUBLIC
END:VEVENT
END:VCALENDAR
