BEGIN:VCALENDAR
VERSION:2.0
CALSCALE:GREGORIAN
PRODID:-//Diputació de Barcelona//DibaCMS//EN
BEGIN:VEVENT
UID:13626
DTSTAMP:20260425T034824
DTSTART:20230918T150000
DTEND:20230930T200000
SUMMARY:EXPOSICIÓ A LA BIBLIOTECA: RAIMON PANIKKAR: VIURE L'AVENTURA INTERCULTURAL
LOCATION:Avinguda Montserrat, 10 08635 Sant Esteve Sesrovires
METHOD:PUBLISH
X-WR-CALNAME:sesrovires@diba.cat
X-WR-TIMEZONE:Europe/Madrid
DESCRIPTION:Exposició sobre Raimon Panikkar, figura de rellevància mundial en el diàleg entre cultures i religinos i en la cerca d'alternatives als reptes del món contemporàni

Oberta fins el 30 de setembre de 2023

URI:https://www.sesrovires.cat/actualitat/agenda-cultural/exposicio-a-la-biblioteca-raimon-panikkar-viure-laventura-intercultural.html
CLASS:PUBLIC
END:VEVENT
END:VCALENDAR
