BEGIN:VCALENDAR
VERSION:2.0
CALSCALE:GREGORIAN
PRODID:-//Diputació de Barcelona//DibaCMS//EN
BEGIN:VEVENT
UID:14270
DTSTAMP:20260422T020619
DTSTART:20240222T150000
DTEND:20250221T000000
SUMMARY:Sant Esteve reforça la imatge promocional de Terra de vi i cava 
LOCATION:
METHOD:PUBLISH
X-WR-CALNAME:sesrovires@diba.cat
X-WR-TIMEZONE:Europe/Madrid
DESCRIPTION:L’Ajuntament de Sant Esteve està instal·lant a la via pública pilones personalitzades en forma de taps de cava. Amb aquesta iniciativa es vol promocionar la tradició vitivinícola del municipi i l’oferta enoturística de les caves i cellers locals. Les pilones duen gravat el text “Sant Esteve Sesrovires, Terra de vi i cava”.   

URI:https://www.sesrovires.cat/actualitat/noticies/sant-esteve-reforca-la-imatge-promocional-de-terra-de-vi-i-cava-.html
CLASS:PUBLIC
END:VEVENT
END:VCALENDAR
