BEGIN:VCALENDAR
VERSION:2.0
CALSCALE:GREGORIAN
PRODID:-//Diputació de Barcelona//DibaCMS//EN
BEGIN:VEVENT
UID:14446
DTSTAMP:20260421T121035
DTSTART:20240513T170000
DTEND:20250513T000000
SUMMARY:Entren en vigor les mesures d’excepcionalitat per sequera
LOCATION:
METHOD:PUBLISH
X-WR-CALNAME:sesrovires@diba.cat
X-WR-TIMEZONE:Europe/Madrid
DESCRIPTION:Avui han entrat en vigor les noves mesures decretades per la Generalitat entrant en l’estadi d’excepcionalitat. La millora de les reserves d’aigua ha permès deixar enrere l’emergència i flexibilitzar algunes restriccions. S’augmenta de 200 a 230 litres el consum màxim per habitant i dia, se suavitza la limitació d'aigua als sectors econòmics i es fixen noves restriccions per a piscines.  

URI:https://www.sesrovires.cat/actualitat/noticies/entren-en-vigor-les-mesures-dexcepcionalitat-per-sequera.html
CLASS:PUBLIC
END:VEVENT
END:VCALENDAR
