BEGIN:VCALENDAR
VERSION:2.0
CALSCALE:GREGORIAN
PRODID:-//Diputació de Barcelona//DibaCMS//EN
BEGIN:VEVENT
UID:15098
DTSTAMP:20260422T123233
DTSTART:20250115T153000
DTEND:20260115T000000
SUMMARY:S’obre una nova convocatòria per optar a l’explotació del bar del Casal Social de Ca n’Amat
LOCATION:
METHOD:PUBLISH
X-WR-CALNAME:sesrovires@diba.cat
X-WR-TIMEZONE:Europe/Madrid
DESCRIPTION:Avui s’ha obert la convocatòria per presentar ofertes per a la concessió del servei de bar-restaurant del Casal Social de Ca n’Amat mijtnaçant procediment restringit, després que l’anterior quedés desert. El termini finalitza el dimecres 5 de febrer a les 15.00 h. Les condicions es poden consultar al Perfil del Contractant.

URI:https://www.sesrovires.cat/actualitat/noticies/sobre-una-nova-convocatoria-per-optar-a-lexplotacio-del-bar-del-casal-social-de-ca-namat.html
CLASS:PUBLIC
END:VEVENT
END:VCALENDAR
