BEGIN:VCALENDAR
VERSION:2.0
CALSCALE:GREGORIAN
PRODID:-//Diputació de Barcelona//DibaCMS//EN
BEGIN:VEVENT
UID:15174
DTSTAMP:20260422T120522
DTSTART:20250131T180000
DTEND:20260129T000000
SUMMARY:El GIRES programa la Montserrat a peu per al 6 d’abril
LOCATION:
METHOD:PUBLISH
X-WR-CALNAME:sesrovires@diba.cat
X-WR-TIMEZONE:Europe/Madrid
DESCRIPTION:El GIRES ha fet publica la programació de l’any 2025 de la secció de muntanya. L’entitat ha programat un total 11 d’activitats, on es troben des de sortides amb raquetes de neu fins a una via ferrada. La caminada popular Montserrat a peu tindrà lloc aquest any el dia 6 d’abril.

URI:https://www.sesrovires.cat/actualitat/noticies/el-gires-programa-la-montserrat-a-peu-per-al-6-dabril.html
CLASS:PUBLIC
END:VEVENT
END:VCALENDAR
