BEGIN:VCALENDAR
VERSION:2.0
CALSCALE:GREGORIAN
PRODID:-//Diputació de Barcelona//DibaCMS//EN
BEGIN:VEVENT
UID:15181
DTSTAMP:20260422T102921
DTSTART:20250130T180000
DTEND:20260130T000000
SUMMARY:Poesia i Jazz al Teatre Municipal El Casino
LOCATION:
METHOD:PUBLISH
X-WR-CALNAME:sesrovires@diba.cat
X-WR-TIMEZONE:Europe/Madrid
DESCRIPTION:L’associació Som Cal Ses organitza demà divendres, a les 19.30 hores, l’acte Poesia i Jazz al Teatre Municipal El Casino.  Constarà de la presentació del llibre de la poetessa sesrovirenca Marta Jorba i de l’actuació del Combo-Jazz de l’Aula de Música. L’esdeveniment cultural compta amb la col·laboració de l’Ajuntament.

URI:https://www.sesrovires.cat/actualitat/noticies/poesia-i-jazz-al-teatre-municipal-el-casino.html
CLASS:PUBLIC
END:VEVENT
END:VCALENDAR
