BEGIN:VCALENDAR
VERSION:2.0
CALSCALE:GREGORIAN
PRODID:-//Diputació de Barcelona//DibaCMS//EN
BEGIN:VEVENT
UID:15184
DTSTAMP:20260422T182910
DTSTART:20250131T101500
DTEND:20260131T000000
SUMMARY:Sant Esteve acull una trobada de Promoció Econòmica dels municipis del programa Fem Xarxa Fem Empresa
LOCATION:
METHOD:PUBLISH
X-WR-CALNAME:sesrovires@diba.cat
X-WR-TIMEZONE:Europe/Madrid
DESCRIPTION:El Celler de l’Ajuntament ha acollit una sessió de treball de responsables polítics i tècnics de Promoció Econòmica dels ajuntaments d’Abrera, Castellví, Collbató, Esparreguera, Martorell, Olesa, Sant Andreu i Sant Esteve, que formen part del programa intermunicipal Fem Xarxa Fem Empresa. S’han abordat temes com la mobilitat, l’ocupació i empreses, la formació, les comunitats energètiques i els mercats no sedentaris.

URI:https://www.sesrovires.cat/actualitat/noticies/sant-esteve-acull-una-trobada-de-promocio-economica-dels-municipis-del-programa-fem-xarxa-fem-empresa.html
CLASS:PUBLIC
END:VEVENT
END:VCALENDAR
