BEGIN:VCALENDAR
VERSION:2.0
CALSCALE:GREGORIAN
PRODID:-//Diputació de Barcelona//DibaCMS//EN
BEGIN:VEVENT
UID:15232
DTSTAMP:20260422T063721
DTSTART:20250207T133000
DTEND:20260207T000000
SUMMARY:L’Ajuntament aplica un tractament preventiu de reforç per combatre la processionària de pi
LOCATION:
METHOD:PUBLISH
X-WR-CALNAME:sesrovires@diba.cat
X-WR-TIMEZONE:Europe/Madrid
DESCRIPTION:Dilluns dia 10 es realitzarà el tractament preventiu de reforç contra la processionària del pi a aquelles zones públiques on s’ha detectat presència de bosses. Les condicions mediambientals han avançat de manera excepcional el cicle i també l’augment de bosses. L’actuació la durà a terme una empresa especialitzada, de les 8 del matí a les 5 de la tarda. És important que els particulars amb pins a la seva propietat apliquin tractaments per frenar la seva proliferació.

URI:https://www.sesrovires.cat/actualitat/noticies/lajuntament-aplica-un-tractament-preventiu-de-reforc-per-combatre-la-processionaria-de-pi.html
CLASS:PUBLIC
END:VEVENT
END:VCALENDAR
