BEGIN:VCALENDAR
VERSION:2.0
CALSCALE:GREGORIAN
PRODID:-//Diputació de Barcelona//DibaCMS//EN
BEGIN:VEVENT
UID:15276
DTSTAMP:20260422T103048
DTSTART:20250212T170000
DTEND:20260212T000000
SUMMARY:Ràdio Sant Esteve celebra el Dia Mundial de la Ràdio des de l’institut
LOCATION:
METHOD:PUBLISH
X-WR-CALNAME:sesrovires@diba.cat
X-WR-TIMEZONE:Europe/Madrid
DESCRIPTION:La biblioteca de l’Institut Montserrat Colomer es convertirà per un dia en estudi radiofònic. Els micròfons de Ràdio Sant Esteve es traslladen al centre educatiu aquest dijous dia 13 per celebrar, un any més, el Dia Mundial de la Ràdio. La programació especial es podrà seguir pel 88.0FM, a rtv10.cat i al canal youtube de l’emissora, de les 10 a les 13 hores. 

URI:https://www.sesrovires.cat/actualitat/noticies/radio-sant-esteve-celebra-el-dia-mundial-de-la-radio-des-de-linstitut.html
CLASS:PUBLIC
END:VEVENT
END:VCALENDAR
