BEGIN:VCALENDAR
VERSION:2.0
CALSCALE:GREGORIAN
PRODID:-//Diputació de Barcelona//DibaCMS//EN
BEGIN:VEVENT
UID:15314
DTSTAMP:20260422T033955
DTSTART:20250220T170000
DTEND:20260220T000000
SUMMARY:Nou curs subvencionat sobre muntatge i manteniment d’instal·lacions solars tèrmiques
LOCATION:
METHOD:PUBLISH
X-WR-CALNAME:sesrovires@diba.cat
X-WR-TIMEZONE:Europe/Madrid
DESCRIPTION:El Centre de Formació Jaume Balmes organitza un curs subvencionat pel SOC sobre muntatge i manteniment d’instal·lacions solars tèrmiques. Les classes començaran el proper 24 de febrer i s’allargarà fins al juny. S’adreça prioritàriament a persones en situació d’atur.

URI:https://www.sesrovires.cat/actualitat/noticies/nou-curs-subvencionat-sobre-muntatge-i-manteniment-dinstallacions-solars-termiques.html
CLASS:PUBLIC
END:VEVENT
END:VCALENDAR
