BEGIN:VCALENDAR
VERSION:2.0
CALSCALE:GREGORIAN
PRODID:-//Diputació de Barcelona//DibaCMS//EN
BEGIN:VEVENT
UID:15388
DTSTAMP:20260421T223707
DTSTART:20250308T080000
DTEND:20260307T000000
SUMMARY:Concurs per escollir el cartell de La Menuda, la festa major infantil
LOCATION:
METHOD:PUBLISH
X-WR-CALNAME:sesrovires@diba.cat
X-WR-TIMEZONE:Europe/Madrid
DESCRIPTION:Sant Esteve Sesrovires comptarà aquest any amb una festa major infantil, anomenada La Menuda. Per aquest motiu, l’Ajuntament convoca un concurs per escollir el cartell de La Menuda. Hi poden participar nens i nenes fins a de 12 anys i el premi són quatre entrades a Port Aventura. Les obres es poden presentar del 10 de març al 7 d’abril.

URI:https://www.sesrovires.cat/actualitat/noticies/concurs-per-escollir-el-cartell-de-la-menuda-la-festa-major-infantil.html
CLASS:PUBLIC
END:VEVENT
END:VCALENDAR
