BEGIN:VCALENDAR
VERSION:2.0
CALSCALE:GREGORIAN
PRODID:-//Diputació de Barcelona//DibaCMS//EN
BEGIN:VEVENT
UID:15390
DTSTAMP:20260422T010819
DTSTART:20250309T080000
DTEND:20260307T000000
SUMMARY:Inauguració de l’exposició '100 anys amb televisió' a la sala El Celler
LOCATION:
METHOD:PUBLISH
X-WR-CALNAME:sesrovires@diba.cat
X-WR-TIMEZONE:Europe/Madrid
DESCRIPTION:El pròxim divendres, 14 de març, a les 20.00 hores, la sala municipal El Celler acull la inauguració de l’exposició 100 anys amb la televisió. La mostra reunirà fins a una quarantena d'aparells de televisió antics, en un recorregut per diferents dècades, especialment del anys 40s al 70s.

URI:https://www.sesrovires.cat/actualitat/noticies/inauguracio-de-lexposicio-100-anys-amb-televisio-a-la-sala-el-celler.html
CLASS:PUBLIC
END:VEVENT
END:VCALENDAR
