BEGIN:VCALENDAR
VERSION:2.0
CALSCALE:GREGORIAN
PRODID:-//Diputació de Barcelona//DibaCMS//EN
BEGIN:VEVENT
UID:15423
DTSTAMP:20260421T181831
DTSTART:20250323T180000
DTEND:20260317T000000
SUMMARY:L’exposició ‘Cuba en la cruïlla’ ofereix una mirada alternativa sobre l’illa caribenya
LOCATION:
METHOD:PUBLISH
X-WR-CALNAME:sesrovires@diba.cat
X-WR-TIMEZONE:Europe/Madrid
DESCRIPTION:L’exposició fotogràfica Cuba en la cruïlla arriba el 24 de març a la Biblioteca Municipal Joan Pomar i Solà. La mosta és una iniciativa de l’associació SUDS i vol proposar una mirada sobre l’illa caribenya fora dels clixés ideològics i posant en valor les iniciatives comunitàries.

URI:https://www.sesrovires.cat/actualitat/noticies/lexposicio-cuba-en-la-cruilla-ofereix-una-mirada-alternativa-sobre-lilla-caribenya.html
CLASS:PUBLIC
END:VEVENT
END:VCALENDAR
