BEGIN:VCALENDAR
VERSION:2.0
CALSCALE:GREGORIAN
PRODID:-//Diputació de Barcelona//DibaCMS//EN
BEGIN:VEVENT
UID:15426
DTSTAMP:20260421T175038
DTSTART:20250318T113000
DTEND:20260318T000000
SUMMARY:Triomf de la selecció dominicana de la mà del coach sesrovirenc Adalberto Ángeles
LOCATION:
METHOD:PUBLISH
X-WR-CALNAME:sesrovires@diba.cat
X-WR-TIMEZONE:Europe/Madrid
DESCRIPTION:El professor del Club Judo Sant Esteve, Adalberto Ángeles, és l’entrenador de la selecció de la República Dominicana. El passat cap de setmana, quatre dels judokes que entrena han aconseguit medalla en la Copa d’Europa celebrada en Letònia.

URI:https://www.sesrovires.cat/actualitat/noticies/triomf-de-la-seleccio-dominicana-de-la-ma-del-coach-sesrovirenc-adalberto-angeles.html
CLASS:PUBLIC
END:VEVENT
END:VCALENDAR
