BEGIN:VCALENDAR
VERSION:2.0
CALSCALE:GREGORIAN
PRODID:-//Diputació de Barcelona//DibaCMS//EN
BEGIN:VEVENT
UID:15429
DTSTAMP:20260421T194403
DTSTART:20250319T080000
DTEND:20260318T000000
SUMMARY:Un taller de xakres tanca dissabte les Jornades de la Dona
LOCATION:
METHOD:PUBLISH
X-WR-CALNAME:sesrovires@diba.cat
X-WR-TIMEZONE:Europe/Madrid
DESCRIPTION:Amb motiu del Dia Internacional de la Dona, durant tot el mes de març s’han realitzat un ampli ventall d’activitats per reivindicar la igualtat entre dones i homes. Dissabte, les Jornades de la Dona tanquen amb un taller de xakres a la Sala Domènech i Estapà. Inscripcions obertes en el telèfon 661 993 959.

URI:https://www.sesrovires.cat/actualitat/noticies/un-taller-de-xakres-tanca-dissabte-les-jornades-de-la-dona.html
CLASS:PUBLIC
END:VEVENT
END:VCALENDAR
