BEGIN:VCALENDAR
VERSION:2.0
CALSCALE:GREGORIAN
PRODID:-//Diputació de Barcelona//DibaCMS//EN
BEGIN:VEVENT
UID:15431
DTSTAMP:20260421T203148
DTSTART:20250321T130000
DTEND:20260318T000000
SUMMARY:Comencen les obres de renovació de la xarxa d’aigua del passeig de l’Estació 
LOCATION:
METHOD:PUBLISH
X-WR-CALNAME:sesrovires@diba.cat
X-WR-TIMEZONE:Europe/Madrid
DESCRIPTION:El proper dilluns 24 de març està previst que Agbar comenci les obres de renovació de la xarxa d’abastament d’aigua potable al passeig de l’Estació. La durada dels treballs és d’uns 3 mesos i s’executaran en 3 fases. El projecte té un cost de 172.310,48 € i compta amb el suport de la Diputació, a través del programa sectorial Millora de xarxes d’abastament aigua.

URI:https://www.sesrovires.cat/actualitat/noticies/comencen-les-obres-de-renovacio-de-la-xarxa-daigua-del-passeig-de-lestacio-.html
CLASS:PUBLIC
END:VEVENT
END:VCALENDAR
