BEGIN:VCALENDAR
VERSION:2.0
CALSCALE:GREGORIAN
PRODID:-//Diputació de Barcelona//DibaCMS//EN
BEGIN:VEVENT
UID:15467
DTSTAMP:20260421T213128
DTSTART:20250322T080000
DTEND:20260321T000000
SUMMARY:Xerrada per a famílies amb adolescents sobre les xarxes socials
LOCATION:
METHOD:PUBLISH
X-WR-CALNAME:sesrovires@diba.cat
X-WR-TIMEZONE:Europe/Madrid
DESCRIPTION:El programa municipal Escolta Jove ha preparat una xerrada per a famílies amb fills adolescents per tractar un dels temes que més preocupen a pares i mes, l’ús de les tecnologies i les xarxes socials entre els joves de 12 a 28 anys. L’activitat tindrà lloc el dijous 27 de març, de 18.30 a 20.30h, a les Escoles Velles. Inscripció gratuïta en el correu electrònic diana@psicoanima.cat.

URI:https://www.sesrovires.cat/actualitat/noticies/xerrada-per-a-families-amb-adolescents-sobre-les-xarxes-socials.html
CLASS:PUBLIC
END:VEVENT
END:VCALENDAR
