BEGIN:VCALENDAR
VERSION:2.0
CALSCALE:GREGORIAN
PRODID:-//Diputació de Barcelona//DibaCMS//EN
BEGIN:VEVENT
UID:15487
DTSTAMP:20260421T182402
DTSTART:20250327T080000
DTEND:20260325T000000
SUMMARY:Cap de setmana d’èxits del taekwondo sesrovirenc
LOCATION:
METHOD:PUBLISH
X-WR-CALNAME:sesrovires@diba.cat
X-WR-TIMEZONE:Europe/Madrid
DESCRIPTION:Els quatre sesrovirencs que han participat en els Campionats Universitaris de Catalunya en la modalitat de taekwondo han obtingut medalla. Albet Bonilla i Noah Pentier revaliden l’or obtingut l’any passat i Isaac del Rosario i Raül Tejero també pugen al pòdium. A més, en el Campionat de Catalunya Infantil, l’Escola Taekwondo Sesrovires ha guanyat quatre medalles. 

URI:https://www.sesrovires.cat/actualitat/noticies/cap-de-setmana-dexits-del-taekwondo-sesrovirenc.html
CLASS:PUBLIC
END:VEVENT
END:VCALENDAR
