BEGIN:VCALENDAR
VERSION:2.0
CALSCALE:GREGORIAN
PRODID:-//Diputació de Barcelona//DibaCMS//EN
BEGIN:VEVENT
UID:15488
DTSTAMP:20260421T225051
DTSTART:20250328T080000
DTEND:20260325T000000
SUMMARY:Brianna Ángeles, classificada per al campionat d’Espanya
LOCATION:
METHOD:PUBLISH
X-WR-CALNAME:sesrovires@diba.cat
X-WR-TIMEZONE:Europe/Madrid
DESCRIPTION:La judoka sesrovirenca Brianna Ángeles ha aconseguit l’objectiu de classificar-se per al Campionat d’Espanya. Aquest cap de setmana ha assolit els punts que necessitava en obtenir una medalla d’or al Rànquing català infantil Antonio Nacenta.

URI:https://www.sesrovires.cat/actualitat/noticies/brianna-angeles-classificada-per-al-campionat-despanya.html
CLASS:PUBLIC
END:VEVENT
END:VCALENDAR
