BEGIN:VCALENDAR
VERSION:2.0
CALSCALE:GREGORIAN
PRODID:-//Diputació de Barcelona//DibaCMS//EN
BEGIN:VEVENT
UID:15489
DTSTAMP:20260422T035311
DTSTART:20250326T080000
DTEND:20260325T000000
SUMMARY:Dol per la mort del treballador de la brigada municipal, Juan Antonio Martínez 
LOCATION:
METHOD:PUBLISH
X-WR-CALNAME:sesrovires@diba.cat
X-WR-TIMEZONE:Europe/Madrid
DESCRIPTION:L’Ajuntament de Sant Esteve Sesrovires expressa el seu més sentit condol per la pèrdua del Juan Antonio Martínez Alberca, el Juanan, oficial de la brigada que ens ha deixat sobtadament als 53 anys. Persona molt estimada, formava part de la plantilla municipal des de l’any 2000. Les banderes de l’Ajuntament onegen a mig pal i els vehicles municipals llueixen crespons negres en senyal de dol.

URI:https://www.sesrovires.cat/actualitat/noticies/dol-per-la-mort-del-treballador-de-la-brigada-municipal-juan-antonio-martinez-.html
CLASS:PUBLIC
END:VEVENT
END:VCALENDAR
