BEGIN:VCALENDAR
VERSION:2.0
CALSCALE:GREGORIAN
PRODID:-//Diputació de Barcelona//DibaCMS//EN
BEGIN:VEVENT
UID:15514
DTSTAMP:20260421T152736
DTSTART:20250327T120000
DTEND:20260326T000000
SUMMARY:Xerrada sobre l’educació emocional a l’escola La Roureda
LOCATION:
METHOD:PUBLISH
X-WR-CALNAME:sesrovires@diba.cat
X-WR-TIMEZONE:Europe/Madrid
DESCRIPTION:L’Escola La Roureda acollirà el pròxim 10 d’abril, a les 17.30 hores, una xerrada sobre educació emocional adreçada a les famílies. El taller, organitzat per l’AFA La Roureda, anirà a càrrec de l’experta Marina Bricollé. Les inscripcions s’han de realitzar abans del 4 d’abril.

URI:https://www.sesrovires.cat/actualitat/noticies/xerrada-sobre-leducacio-emocional-a-lescola-la-roureda.html
CLASS:PUBLIC
END:VEVENT
END:VCALENDAR
