BEGIN:VCALENDAR
VERSION:2.0
CALSCALE:GREGORIAN
PRODID:-//Diputació de Barcelona//DibaCMS//EN
BEGIN:VEVENT
UID:15515
DTSTAMP:20260421T184425
DTSTART:20250331T120000
DTEND:20260326T000000
SUMMARY:Inscripcions obertes a la 37a edició de la Cursa de Sant Jordi
LOCATION:
METHOD:PUBLISH
X-WR-CALNAME:sesrovires@diba.cat
X-WR-TIMEZONE:Europe/Madrid
DESCRIPTION:La 37a Cursa de Sant Jordi se celebrarà el pròxim 27 d’abril amb la principal novetat que aquest any els participants podran triar entre donar una o dues voltes al circuit. La inscripció amb dret a samarreta comença el dilluns 31 de març i finalitza el 6 d'abril

URI:https://www.sesrovires.cat/actualitat/noticies/inscripcions-obertes-a-la-37a-edicio-de-la-cursa-de-sant-jordi.html
CLASS:PUBLIC
END:VEVENT
END:VCALENDAR
