BEGIN:VCALENDAR
VERSION:2.0
CALSCALE:GREGORIAN
PRODID:-//Diputació de Barcelona//DibaCMS//EN
BEGIN:VEVENT
UID:15517
DTSTAMP:20260423T102605
DTSTART:20250329T150000
DTEND:20260327T000000
SUMMARY:El Canal de WhatsApp de l’Ajuntament arriba als 1.900 usuaris 
LOCATION:
METHOD:PUBLISH
X-WR-CALNAME:sesrovires@diba.cat
X-WR-TIMEZONE:Europe/Madrid
DESCRIPTION:L’Ajuntament ha aconseguit consolidar el canal de WhatsApp com una eina de comunicació efectiva, arribant ja als 1.900 usuaris. Aquest servei, que atén una mitjana de gairebé 800 incidències anuals, s'ha convertit en un punt de referència per a la interacció entre l'administració i la ciutadania.

URI:https://www.sesrovires.cat/actualitat/noticies/el-canal-de-whatsapp-de-lajuntament-arriba-als-1900-usuaris-.html
CLASS:PUBLIC
END:VEVENT
END:VCALENDAR
