BEGIN:VCALENDAR
VERSION:2.0
CALSCALE:GREGORIAN
PRODID:-//Diputació de Barcelona//DibaCMS//EN
BEGIN:VEVENT
UID:15524
DTSTAMP:20260421T103409
DTSTART:20250330T080000
DTEND:20260328T000000
SUMMARY:La Coral Sant Esteve canta el Rèquiem de Farué el 5 d’abril a l’església
LOCATION:
METHOD:PUBLISH
X-WR-CALNAME:sesrovires@diba.cat
X-WR-TIMEZONE:Europe/Madrid
DESCRIPTION:La Coral Sant Esteve dedica el seu pròxim concert a Gabriel Fauré. La formació musical interpretarà el Rèquiem del compositor francès el dissabte 5 d’abril, a les 21.00 hores, a l’església parroquial. Les entrades ja estan disponibles a les botigues Nova Natura i Hiperfauna.

URI:https://www.sesrovires.cat/actualitat/noticies/la-coral-sant-esteve-canta-el-requiem-de-farue-el-5-dabril-a-lesglesia.html
CLASS:PUBLIC
END:VEVENT
END:VCALENDAR
