BEGIN:VCALENDAR
VERSION:2.0
CALSCALE:GREGORIAN
PRODID:-//Diputació de Barcelona//DibaCMS//EN
BEGIN:VEVENT
UID:15528
DTSTAMP:20260421T180630
DTSTART:20250401T100000
DTEND:20260331T000000
SUMMARY:Taller de coreografia per a cant coral i gòspel el 6 d’abril
LOCATION:
METHOD:PUBLISH
X-WR-CALNAME:sesrovires@diba.cat
X-WR-TIMEZONE:Europe/Madrid
DESCRIPTION:La formació musical Oh My God Gospel Choir prepara un taller de coreografia per a cant coral i gòspel per al pròxim diumenge, 6 d’abril, de 10.00 a 13.00 hores. Estarà impartit per Elisenda Casas a la Sala Domènech i Estapà. Inscripcions en el correu electrònic ohmygodgospelchoir@gmail.com. El preu de l’activitat és de 25 euros.

URI:https://www.sesrovires.cat/actualitat/noticies/taller-de-coreografia-per-a-cant-coral-i-gospel-el-6-dabril.html
CLASS:PUBLIC
END:VEVENT
END:VCALENDAR
