BEGIN:VCALENDAR
VERSION:2.0
CALSCALE:GREGORIAN
PRODID:-//Diputació de Barcelona//DibaCMS//EN
BEGIN:VEVENT
UID:15530
DTSTAMP:20260422T024102
DTSTART:20250401T080000
DTEND:20260331T000000
SUMMARY:El FC Barcelona agreix la col·laboració dels ajuntaments pels quals passarà la Marxa Culer
LOCATION:
METHOD:PUBLISH
X-WR-CALNAME:sesrovires@diba.cat
X-WR-TIMEZONE:Europe/Madrid
DESCRIPTION:Dissabte a l’estadi Lluís Companys, el regidor d’Esports, Òscar Rodríguez, va assistir a l’acte de recepció del FC Barcelona on l’entitat blaugrana va agrair la col·laboració dels municipis pels quals passarà la Marxa Culer, entre els quals es troba Sant Esteve Sesrovires.

URI:https://www.sesrovires.cat/actualitat/noticies/el-fc-barcelona-agreix-la-collaboracio-dels-ajuntaments-pels-quals-passara-la-marxa-culer.html
CLASS:PUBLIC
END:VEVENT
END:VCALENDAR
