BEGIN:VCALENDAR
VERSION:2.0
CALSCALE:GREGORIAN
PRODID:-//Diputació de Barcelona//DibaCMS//EN
BEGIN:VEVENT
UID:15532
DTSTAMP:20260421T183346
DTSTART:20250404T151500
DTEND:20260401T000000
SUMMARY:Enric Vallhonesta, Club Vòlei Sant Esteve i Passatge del Terror, guardonats als Premis Sesrovirencs de l'Any 2024
LOCATION:
METHOD:PUBLISH
X-WR-CALNAME:sesrovires@diba.cat
X-WR-TIMEZONE:Europe/Madrid
DESCRIPTION:L’artista Enric Vallhonesta, pel seu compromís amb la cultura local; el Club Vòlei Sant Esteve, pel foment de l'esport femení; i el Passatge del Terror, per la seva capacitat de dinamització comunitària, han estat reconeguts en les tres categories dels Premis Sesrovirencs de l’Any 2024: a la Persona, a l’Entitat, i a l’Activitat. Els guardons s’atorgaran la Diada de Sant Jordi.

URI:https://www.sesrovires.cat/actualitat/noticies/enric-vallhonesta-club-volei-sant-esteve-i-passatge-del-terror-guardonats-als-premis-sesrovirencs-de-lany-2024.html
CLASS:PUBLIC
END:VEVENT
END:VCALENDAR
