BEGIN:VCALENDAR
VERSION:2.0
CALSCALE:GREGORIAN
PRODID:-//Diputació de Barcelona//DibaCMS//EN
BEGIN:VEVENT
UID:15568
DTSTAMP:20260421T123532
DTSTART:20250404T144000
DTEND:20260404T000000
SUMMARY:Darrers dies per participar en el concurs del cartell de la festa major infantil
LOCATION:
METHOD:PUBLISH
X-WR-CALNAME:sesrovires@diba.cat
X-WR-TIMEZONE:Europe/Madrid
DESCRIPTION:El pròxim dilluns, 7 d’abril, finalitza el termini per presentar-se al concurs del cartell de La Menuda, la festa major infantil que tindrà lloc el 6,7,8 de juny, una festa que comptarà amb pregó, cercavila, i una gran diversitat d’activitats i espectacles familiars.

URI:https://www.sesrovires.cat/actualitat/noticies/darrers-dies-per-participar-en-el-concurs-del-cartell-de-la-festa-major-infantil.html
CLASS:PUBLIC
END:VEVENT
END:VCALENDAR
