BEGIN:VCALENDAR
VERSION:2.0
CALSCALE:GREGORIAN
PRODID:-//Diputació de Barcelona//DibaCMS//EN
BEGIN:VEVENT
UID:15569
DTSTAMP:20260421T173735
DTSTART:20250409T080000
DTEND:20260407T000000
SUMMARY:La processó de la Cofradía obre els actes de la Setmana Santa
LOCATION:
METHOD:PUBLISH
X-WR-CALNAME:sesrovires@diba.cat
X-WR-TIMEZONE:Europe/Madrid
DESCRIPTION:Els membres de la Cofradía del Santo Cristo portaran divendres, 11 d’abril, el pas de la Mare de Déu dels Dolors pels carrers de Sant Esteve. La processó començarà a les 21.00 hores i estarà acompanyada per la banda de l’Associació Musical Virgen de la Sierra. Amb la processó comencen els actes religiosos que formen part de la Setmana Santa.

URI:https://www.sesrovires.cat/actualitat/noticies/la-processo-de-la-cofradia-obre-els-actes-de-la-setmana-santa.html
CLASS:PUBLIC
END:VEVENT
END:VCALENDAR
