BEGIN:VCALENDAR
VERSION:2.0
CALSCALE:GREGORIAN
PRODID:-//Diputació de Barcelona//DibaCMS//EN
BEGIN:VEVENT
UID:15572
DTSTAMP:20260421T110537
DTSTART:20250419T080000
DTEND:20260408T000000
SUMMARY:La Biblioteca Municipal surt al carrer per exposar les seves novetats
LOCATION:
METHOD:PUBLISH
X-WR-CALNAME:sesrovires@diba.cat
X-WR-TIMEZONE:Europe/Madrid
DESCRIPTION:El mes d’abril serà especial per a la Biblioteca Municipal Joan Pomar i Solà perquè coincideix amb la diada de Sant Jordi. El mateix 23 d’abril, la biblioteca posarà un estand a la plaça Xic Mateu amb els nous llibres que els han arribat. També durant el mes d’abril, hi haurà el taller infantil Un ram de llibres i una hora del conte en anglès per a nens i nenes de 3 a 6 anys.

URI:https://www.sesrovires.cat/actualitat/noticies/la-biblioteca-municipal-surt-al-carrer-per-exposar-les-seves-novetats.html
CLASS:PUBLIC
END:VEVENT
END:VCALENDAR
