BEGIN:VCALENDAR
VERSION:2.0
CALSCALE:GREGORIAN
PRODID:-//Diputació de Barcelona//DibaCMS//EN
BEGIN:VEVENT
UID:15576
DTSTAMP:20260421T143658
DTSTART:20250418T080000
DTEND:20260411T000000
SUMMARY:Espectacle infantil gratuït el 20 d’abril al Casal Social de  Vallserrat 
LOCATION:
METHOD:PUBLISH
X-WR-CALNAME:sesrovires@diba.cat
X-WR-TIMEZONE:Europe/Madrid
DESCRIPTION:Diumenge, 20 d’abril, arriba al Casal Social de Vallserrat el tercer dels espectacles programats per l’ Associació de Veïns Unificada de Vallserrat. En aquesta ocasió actuarà la companyia ¾ de Quinze. La funció començarà a les 12.00 hores i l’entrada és gratuïta.

URI:https://www.sesrovires.cat/actualitat/noticies/espectacle-infantil-gratuit-el-20-dabril-al-casal-social-de-vallserrat-.html
CLASS:PUBLIC
END:VEVENT
END:VCALENDAR
