BEGIN:VCALENDAR
VERSION:2.0
CALSCALE:GREGORIAN
PRODID:-//Diputació de Barcelona//DibaCMS//EN
BEGIN:VEVENT
UID:15580
DTSTAMP:20260421T115443
DTSTART:20250414T120000
DTEND:20260414T000000
SUMMARY:Tania Álvarez revalida el títol de Campiona d’Europa
LOCATION:
METHOD:PUBLISH
X-WR-CALNAME:sesrovires@diba.cat
X-WR-TIMEZONE:Europe/Madrid
DESCRIPTION:Tania Álvarez va guanyar ahir la seva rival Katie Healy per decisió unànime dels jutges. D’aquesta forma, la sesrovirenca revalida de nou el seu cinturó de Campiona d’Europa del pes supergall. L’esportista va agrair el suport del públic que va assistir a la vetllada pugilística a Castellbisbal.

URI:https://www.sesrovires.cat/actualitat/noticies/15580-tania-alvarez-revalida-el-titol-de-campiona-deuropa.html
CLASS:PUBLIC
END:VEVENT
END:VCALENDAR
