BEGIN:VCALENDAR
VERSION:2.0
CALSCALE:GREGORIAN
PRODID:-//Diputació de Barcelona//DibaCMS//EN
BEGIN:VEVENT
UID:15586
DTSTAMP:20260421T121651
DTSTART:20250423T163000
DTEND:20260423T000000
SUMMARY:Cadells de Drac celebra 25 anys amb una Trobada de Bestiari
LOCATION:
METHOD:PUBLISH
X-WR-CALNAME:sesrovires@diba.cat
X-WR-TIMEZONE:Europe/Madrid
DESCRIPTION:L’entitat Cadells de Drac celebra enguany els 25 anys de la seva fundació amb una Trobada de Bestiari el dissabte 26 d’abril, a la qual han convidat a quatre colles d’altres poblacions. A més d’un correfoc conjunt, hi haurà una cercavila sense foc, jocs familiars, bingo musical i una botifarrada popular. La trobada és el primer dels actes que tindran lloc per celebrar el 25è aniversari.

URI:https://www.sesrovires.cat/actualitat/noticies/cadells-de-drac-celebra-25-anys-amb-una-trobada-de-bestiari.html
CLASS:PUBLIC
END:VEVENT
END:VCALENDAR
