BEGIN:VCALENDAR
VERSION:2.0
CALSCALE:GREGORIAN
PRODID:-//Diputació de Barcelona//DibaCMS//EN
BEGIN:VEVENT
UID:15604
DTSTAMP:20260421T131726
DTSTART:20250428T145000
DTEND:20260428T000000
SUMMARY:Activat el Pla d'Emergències per la situació provocada per la interrupció del subministrament elèctric generalitzat
LOCATION:
METHOD:PUBLISH
X-WR-CALNAME:sesrovires@diba.cat
X-WR-TIMEZONE:Europe/Madrid
DESCRIPTION:L’Ajuntament ha activat el pla d’emergències municipal Duprocim en fase d’alerta. L’alcalde ha presidit la reunió del comitè per avaluar la situació provocada per la interrupció generalitzada del subministrament elèctric. El comitè ha acordat el tancament de totes les instal·lacions municipals i la suspensió de totes les activitats extraescolars de tarda.

URI:https://www.sesrovires.cat/actualitat/noticies/activat-el-pla-demergencies-per-la-situacio-provocada-per-la-interrupcio-del-subministrament-electric-generalitzat.html
CLASS:PUBLIC
END:VEVENT
END:VCALENDAR
