BEGIN:VCALENDAR
VERSION:2.0
CALSCALE:GREGORIAN
PRODID:-//Diputació de Barcelona//DibaCMS//EN
BEGIN:VEVENT
UID:22905
DTSTAMP:20260421T163202
DTSTART:20251116T180000
DTEND:20261114T000000
SUMMARY:Espectacle d’humor al Casino amb els monòlegs de Jorge Santini sobre els anys 80
LOCATION:
METHOD:PUBLISH
X-WR-CALNAME:sesrovires@diba.cat
X-WR-TIMEZONE:Europe/Madrid
DESCRIPTION:El monologuista Jorge Santini recala en el Teatre Municipal El Casino el pròxim 28 de novembre, a les 20.00 hores,  amb el seu espectacle ¡Era se una vez los 80!  L’humor és el principal ingredient d’uns monòlegs que transporten el públic a la dècada màgica dels anys vuitanta. Entrades en ReservaPlay a partir del 17 de novembre.

URI:https://www.sesrovires.cat/actualitat/noticies/espectacle-dhumor-al-casino-amb-els-monolegs-de-jorge-santini-sobre-els-anys-80.html
CLASS:PUBLIC
END:VEVENT
END:VCALENDAR
