BEGIN:VCALENDAR
VERSION:2.0
CALSCALE:GREGORIAN
PRODID:-//Diputació de Barcelona//DibaCMS//EN
BEGIN:VEVENT
UID:23128
DTSTAMP:20260426T024407
DTSTART:20260120T090000
DTEND:20260123T130000
SUMMARY:Expedició DNI
LOCATION:Carrer Major, 8 08635 Sant Esteve Sesrovires
METHOD:PUBLISH
X-WR-CALNAME:sesrovires@diba.cat
X-WR-TIMEZONE:Europe/Madrid
DESCRIPTION:





PROPERA EXPEDICIÓ DNI A L’AJUNTAMENT  Dimarts 20 de gener (recollida el divendres 23 de gener). 

Destinat PREFERENTMENT a persones grans, persones amb mobilitat reduida, document caducat (majors de 14 anys) 

Demanar cita prèvia al SIAC per telèfon al 937 713 017, a partir del dia 8 de gener, a les 8.30h.

Cal portar l’import exacte de 12€ i una fotografia.  

 


	Fora d’aquest servei a Sant Esteve, es pot sol.licitar cita prèvia per l’expedició del DNI en una comissaria de Policia Nacional: https://www.citapreviadnie.es


 

 







URI:https://www.sesrovires.cat/actualitat/agenda-cultural/23128-expedicio-dni.html
CLASS:PUBLIC
END:VEVENT
END:VCALENDAR
