BEGIN:VCALENDAR
VERSION:2.0
CALSCALE:GREGORIAN
PRODID:-//Diputació de Barcelona//DibaCMS//EN
BEGIN:VEVENT
UID:23145
DTSTAMP:20260426T024106
DTSTART:20260125T180000
DTEND:20260125T180000
SUMMARY:BALL PER A TOTHOM
LOCATION:Av. Catalunya, 3 08635 Sant Esteve Sesrovires
METHOD:PUBLISH
X-WR-CALNAME:sesrovires@diba.cat
X-WR-TIMEZONE:Europe/Madrid
DESCRIPTION:Amb Jaume Junior

Preu 3 €

URI:https://www.sesrovires.cat/actualitat/agenda-cultural/23145-ball-per-a-tothom.html
CLASS:PUBLIC
END:VEVENT
END:VCALENDAR
