BEGIN:VCALENDAR
VERSION:2.0
CALSCALE:GREGORIAN
PRODID:-//Diputació de Barcelona//DibaCMS//EN
BEGIN:VEVENT
UID:23714
DTSTAMP:20260420T191354
DTSTART:20260420T130000
DTEND:20270420T000000
SUMMARY:Quatre podis per al patinatge sesrovirenc en el Trofeu de Primavera
LOCATION:
METHOD:PUBLISH
X-WR-CALNAME:sesrovires@diba.cat
X-WR-TIMEZONE:Europe/Madrid
DESCRIPTION:El Club de Patinatge Artístic de Sant Esteve Sesrovires ha participat aquest cap de setmana en el Trofeu de Primavera, celebrat a Sant Salvador de Guardiola, on ha aconseguit fins a quatre podis. El club prepara més competicions pel maig i una jornada lúdica aquest dimecres per celebrar Sant Jordi.

URI:https://www.sesrovires.cat/actualitat/noticies/quatre-podis-per-al-patinatge-sesrovirenc-en-el-trofeu-de-primavera.html
CLASS:PUBLIC
END:VEVENT
END:VCALENDAR
