BEGIN:VCALENDAR
VERSION:2.0
CALSCALE:GREGORIAN
PRODID:-//Diputació de Barcelona//DibaCMS//EN
BEGIN:VEVENT
UID:23715
DTSTAMP:20260424T182607
DTSTART:20260424T160000
DTEND:20260424T203000
SUMMARY:BANC D'ALIMENTS: RECOLLIDA D'ALIMENTS
LOCATION:bONÀREA / COALIMENT 
METHOD:PUBLISH
X-WR-CALNAME:sesrovires@diba.cat
X-WR-TIMEZONE:Europe/Madrid
DESCRIPTION:Recollida d'aliments, pel banc d'aliments, amb la col·laboració de Serveis Comunitaris de l'Institut Montserrat Colomer

URI:https://www.sesrovires.cat/actualitat/agenda-cultural/banc-daliments-recollida-daliments.html
CLASS:PUBLIC
END:VEVENT
END:VCALENDAR
