BEGIN:VCALENDAR
VERSION:2.0
CALSCALE:GREGORIAN
PRODID:-//Diputació de Barcelona//DibaCMS//EN
BEGIN:VEVENT
UID:23716
DTSTAMP:20260421T220436
DTSTART:20260425T110000
DTEND:20260425T110000
SUMMARY:SARDINADA POPULAR DEL BAR EL CASINO + CLUB BILLAR SANES
LOCATION:Parquing El Casino 
METHOD:PUBLISH
X-WR-CALNAME:sesrovires@diba.cat
X-WR-TIMEZONE:Europe/Madrid
DESCRIPTION:Sardinada Popular organitzada per Bar El Casino i Club Billar Sanes

09:00 Esmorzar

11.00 Vermut Musical

13.00 Sardinada

16.00 Tardeo

URI:https://www.sesrovires.cat/actualitat/agenda-cultural/sardinada-popular-del-bar-el-casino--club-billar-sanes.html
CLASS:PUBLIC
END:VEVENT
END:VCALENDAR
