BEGIN:VCALENDAR
VERSION:2.0
CALSCALE:GREGORIAN
PRODID:-//Diputació de Barcelona//DibaCMS//EN
BEGIN:VEVENT
UID:23717
DTSTAMP:20260422T153549
DTSTART:20260421T120000
DTEND:20270421T000000
SUMMARY:Taller de compostatge per aprendre a gestionar els residus orgànics a la llar
LOCATION:
METHOD:PUBLISH
X-WR-CALNAME:sesrovires@diba.cat
X-WR-TIMEZONE:Europe/Madrid
DESCRIPTION:Amb el lema “Tancar el cicle de la matèria orgànica és més fàcil del que imagines!”, la regidoria de Medi Ambient organitza un taller de compostatge domèstic per aprendre a gestionar els residus orgànics des de casa. L’activitat tindrà lloc el dimarts 28 d’abril a les 18.30 h a l’Edifici Sputnik (carrer del Dr. Pau Costas, 49). Les inscripciones estan obertes mitjançant formulari web i les places són limitades.

URI:https://www.sesrovires.cat/actualitat/noticies/taller-de-compostatge-per-aprendre-a-gestionar-els-residus-organics-a-la-llar.html
CLASS:PUBLIC
END:VEVENT
END:VCALENDAR
