BEGIN:VCALENDAR
VERSION:2.0
CALSCALE:GREGORIAN
PRODID:-//Diputació de Barcelona//DibaCMS//EN
BEGIN:VEVENT
UID:23724
DTSTAMP:20260422T212555
DTSTART:20260426T183000
DTEND:20260426T183000
SUMMARY:FUTBOL ALEVÍ S11-A
LOCATION:Carrer dels Esports, s/n 08635 Sant Esteve Sesrovires
METHOD:PUBLISH
X-WR-CALNAME:sesrovires@diba.cat
X-WR-TIMEZONE:Europe/Madrid
DESCRIPTION:Sant Esteve Sesrovires / Sant Vicenç dels Horts

18:30 Camp de Futbol Municipal

URI:https://www.sesrovires.cat/actualitat/agenda-esportiva/23724-futbol-alevi-s11-a.html
CLASS:PUBLIC
END:VEVENT
END:VCALENDAR
