BEGIN:VCALENDAR
VERSION:2.0
CALSCALE:GREGORIAN
PRODID:-//Diputació de Barcelona//DibaCMS//EN
BEGIN:VEVENT
UID:23725
DTSTAMP:20260423T173722
DTSTART:20260422T200000
DTEND:20270422T000000
SUMMARY:Sant Esteve Sesrovires registra la taxa d’atur més baixa del Baix Llobregat
LOCATION:
METHOD:PUBLISH
X-WR-CALNAME:sesrovires@diba.cat
X-WR-TIMEZONE:Europe/Madrid
DESCRIPTION:Sant Esteve Sesrovires, juntament amb Begues, encapçala el rànquing de municipis amb menor taxa d’atur del Baix Llobregat, amb un índex del 4,8%. Segons l’informe de l’Observatori Comarcal corresponent al mes de març, aquesta xifra situa Sant Esteve molt per sota de la mitjana del Baix Llobregat (7,5%) i també de la mitjana de Catalunya (8,1%).

URI:https://www.sesrovires.cat/actualitat/noticies/sant-esteve-sesrovires-registra-la-taxa-datur-mes-baixa-del-baix-llobregat.html
CLASS:PUBLIC
END:VEVENT
END:VCALENDAR
