BEGIN:VCALENDAR
VERSION:2.0
CALSCALE:GREGORIAN
PRODID:-//Diputació de Barcelona//DibaCMS//EN
BEGIN:VEVENT
UID:23737
DTSTAMP:20260423T173437
DTSTART:20260426T123000
DTEND:20260426T123000
SUMMARY:VOLEIBOL JUNIOR
LOCATION:Carrer Marta Mata s/n 08635 Sant Esteve Sesrovires
METHOD:PUBLISH
X-WR-CALNAME:sesrovires@diba.cat
X-WR-TIMEZONE:Europe/Madrid
DESCRIPTION:Sant Esteve Sesrovires / Sant Just

12:30 Pavelló Poliesportiu

URI:https://www.sesrovires.cat/actualitat/agenda-esportiva/23737-voleibol-junior.html
CLASS:PUBLIC
END:VEVENT
END:VCALENDAR
